BEGIN:VCALENDAR
VERSION:2.0
PRODID:-//Rainbow Pride Youth Alliance - ECPv6.15.1.1//NONSGML v1.0//EN
CALSCALE:GREGORIAN
METHOD:PUBLISH
X-WR-CALNAME:Rainbow Pride Youth Alliance
X-ORIGINAL-URL:https://rpya.mycampaign.site
X-WR-CALDESC:Events for Rainbow Pride Youth Alliance
REFRESH-INTERVAL;VALUE=DURATION:PT1H
X-Robots-Tag:noindex
X-PUBLISHED-TTL:PT1H
BEGIN:VTIMEZONE
TZID:America/Los_Angeles
BEGIN:DAYLIGHT
TZOFFSETFROM:-0800
TZOFFSETTO:-0700
TZNAME:PDT
DTSTART:20220313T100000
END:DAYLIGHT
BEGIN:STANDARD
TZOFFSETFROM:-0700
TZOFFSETTO:-0800
TZNAME:PST
DTSTART:20221106T090000
END:STANDARD
END:VTIMEZONE
BEGIN:VEVENT
DTSTART;TZID=America/Los_Angeles:20220618T180000
DTEND;TZID=America/Los_Angeles:20220618T230000
DTSTAMP:20260423T094016
CREATED:20220608T235030Z
LAST-MODIFIED:20220608T235030Z
UID:177-1655575200-1655593200@rpya.mycampaign.site
SUMMARY:Riverside Pride GLOW Walk for Love
DESCRIPTION:Host: Riverside Pride & UCR LGBTQ Resource Center \nRegistration: Click here to Register \nSponsors: Glamazon\, UCR LGBT Resource Center\, California LGBTQ Health and Human Services Network\, Altura Credit Union\, Planned Parenthood\, Dignity Health\, St. Bernardine Medical Center\, United Healthcare\, Alpha Bet Mafia SoCal\, The Heart Matters Foster Family Agency\, Raincross District Marketplace & Wellness Studio\, House of Transplant and Cancer\, Foothill AIDS Project
URL:https://rpya.mycampaign.site/event/riverside-pride-glow-walk-for-love/
LOCATION:UCR Campus\, 900 University Ave\, Riverside\, CA\, 92521\, United States
ATTACH;FMTTYPE=image/png:https://rpya.mycampaign.site/wp-content/uploads/2022/06/1.2-300dpi-white.png
END:VEVENT
BEGIN:VEVENT
DTSTART;TZID=America/Los_Angeles:20220611T080000
DTEND;TZID=America/Los_Angeles:20220611T170000
DTSTAMP:20260423T094016
CREATED:20220608T231129Z
LAST-MODIFIED:20220608T231129Z
UID:172-1654934400-1654966800@rpya.mycampaign.site
SUMMARY:Drag Queen Story Time Celebrates Pride Month
DESCRIPTION:Host: Cellar Door Bookstore \nPerformers: Kelly K\, Scalene OnixXx\, and Athena Monet Kills are coming back to celebrate Pride Month in June!
URL:https://rpya.mycampaign.site/event/drag-queen-story-time-celebrates-pride-month/
LOCATION:Cellar Door Bookstore\, 5225 Canyon Crest Drive\, #30A\, Riverside\, CA\, 92507\, United States
ATTACH;FMTTYPE=image/png:https://rpya.mycampaign.site/wp-content/uploads/2022/06/Screenshot-2022-06-06-211758.png
END:VEVENT
BEGIN:VEVENT
DTSTART;TZID=America/Los_Angeles:20220605T140000
DTEND;TZID=America/Los_Angeles:20220605T190000
DTSTAMP:20260423T094016
CREATED:20220608T230253Z
LAST-MODIFIED:20220608T230253Z
UID:167-1654437600-1654455600@rpya.mycampaign.site
SUMMARY:LGBTQIA Pride Fest
DESCRIPTION:Performers: Leandra Rose\, Alexa Kamryn\, Sahara\, Live music by Ms. Laura Bean \nSponsors: Dj Darcie Rickert\, Dj Nataliasix\, Riverside’s Inland Empire Pride\, Alpha Bet Mafia\, Rainbow Pride Youth Alliance\, My Generation\,
URL:https://rpya.mycampaign.site/event/lgbtqia-pride-fest/
LOCATION:Hangar 24 Brewery\, 1710 Sessums Drive\, Redlands\, CA\, United States
ATTACH;FMTTYPE=image/jpeg:https://rpya.mycampaign.site/wp-content/uploads/2022/06/283030080_10223236593566443_2210523883269902705_n.jpg
END:VEVENT
END:VCALENDAR